BEGIN:VCALENDAR
VERSION:2.0
PRODID:-//INCOSE
CALSCALE:GREGORIAN
METHOD:PUBLISH
X-WR-CALNAME:INCOSE
X-ORIGINAL-URL:https://incose.nl/en/product/21-maart-new-member-meeting/
X-WR-CALDESC:21 maart &#8211; New Member Meeting
BEGIN:VEVENT
DTSTART;TZID=Europe/London:20230321T170000
DTEND;TZID=Europe/London:20230321T200000
SUMMARY:21 maart – New Member Meeting
DESCRIPTION:
URL:https://incose.nl/en/product/21-maart-new-member-meeting/
LOCATION:
END:VEVENT
END:VCALENDAR
