BEGIN:VCALENDAR
VERSION:2.0
PRODID:-//INCOSE
CALSCALE:GREGORIAN
METHOD:PUBLISH
X-WR-CALNAME:INCOSE
X-ORIGINAL-URL:https://incose.nl/product/8-januari-nieuwjaarsevent/
X-WR-CALDESC:23 April  Koningsevent
BEGIN:VEVENT
DTSTART;TZID=Europe/Paris:20260423T170000
DTEND;TZID=Europe/Paris:20260423T203000
SUMMARY:23 April  Koningsevent
DESCRIPTION:
URL:https://incose.nl/product/8-januari-nieuwjaarsevent/
LOCATION:
END:VEVENT
END:VCALENDAR
